BEGIN:VCALENDAR
VERSION:2.0
PRODID:-//wp-events-plugin.com//7.2.3.1//EN
TZID:Europe/Madrid
X-WR-TIMEZONE:Europe/Madrid
BEGIN:VEVENT
UID:1261@casimedicos.com
DTSTART;TZID=Europe/Madrid:20170316T000000
DTEND;TZID=Europe/Madrid:20170318T000000
DTSTAMP:20170227T213357Z
URL:https://www.casimedicos.com/eventos/xi-congreso-emergencias-medicas/
SUMMARY:XI Congreso de Emergencias Médicas
DESCRIPTION:El Congreso de Emergencias Medicas (CEM) es una iniciativa de
  los alumnos de quinto curso del Hospital de Sant Pau y de la Santa Creu
  (Universidad Autónoma de Barcelona) con el objetivo acercar el mundo de 
 las emergencias a estudiantes de medicina y enfermería.
CATEGORIES:Congresos, Jornadas y Cursos,Estudiantes
END:VEVENT
BEGIN:VTIMEZONE
TZID:Europe/Madrid
X-LIC-LOCATION:Europe/Madrid
BEGIN:STANDARD
DTSTART:20161030T020000
TZOFFSETFROM:+0200
TZOFFSETTO:+0100
TZNAME:CET
END:STANDARD
END:VTIMEZONE
END:VCALENDAR