BEGIN:VCALENDAR
VERSION:2.0
PRODID:-//wp-events-plugin.com//7.2.3.1//EN
TZID:Europe/Madrid
X-WR-TIMEZONE:Europe/Madrid
BEGIN:VEVENT
UID:928@casimedicos.com
DTSTART;TZID=Europe/Madrid;VALUE=DATE:20170210
DTEND;TZID=Europe/Madrid;VALUE=DATE:20170311
DTSTAMP:20170212T225503Z
URL:https://www.casimedicos.com/eventos/sicue-curso-20172018-usal/
SUMMARY:SICUE - Curso 2017/2018 USAL
DESCRIPTION:https://www.casimedicos.com/sicue-curso-20172018-usal/
CATEGORIES:Becas, ayudas y premios,Calendario,Estudiantes
END:VEVENT
BEGIN:VTIMEZONE
TZID:Europe/Madrid
X-LIC-LOCATION:Europe/Madrid
BEGIN:STANDARD
DTSTART:20161030T020000
TZOFFSETFROM:+0200
TZOFFSETTO:+0100
TZNAME:CET
END:STANDARD
END:VTIMEZONE
END:VCALENDAR