BEGIN:VCALENDAR
VERSION:2.0
PRODID:-//wp-events-plugin.com//7.2.3.1//EN
TZID:Europe/Madrid
X-WR-TIMEZONE:Europe/Madrid
BEGIN:VEVENT
UID:6@casimedicos.com
DTSTART;TZID=Europe/Madrid;VALUE=DATE:20170221
DTEND;TZID=Europe/Madrid;VALUE=DATE:20170222
DTSTAMP:20170212T225538Z
URL:https://www.casimedicos.com/eventos/reunion-las-comisiones-calificador
 as/
SUMMARY:Reunión de las Comisiones Calificadoras
DESCRIPTION:https://www.casimedicos.com/ver/graduados/examen-mir/
CATEGORIES:Calendario,Examen MIR,Residentes
END:VEVENT
BEGIN:VTIMEZONE
TZID:Europe/Madrid
X-LIC-LOCATION:Europe/Madrid
BEGIN:STANDARD
DTSTART:20161030T020000
TZOFFSETFROM:+0200
TZOFFSETTO:+0100
TZNAME:CET
END:STANDARD
END:VTIMEZONE
END:VCALENDAR