BEGIN:VCALENDAR
VERSION:2.0
PRODID:-//wp-events-plugin.com//7.2.3.1//EN
TZID:Europe/Madrid
X-WR-TIMEZONE:Europe/Madrid
BEGIN:VEVENT
UID:1276@casimedicos.com
DTSTART;TZID=Europe/Madrid;VALUE=DATE:19830725
DTEND;TZID=Europe/Madrid;VALUE=DATE:19830726
DTSTAMP:20180725T180455Z
URL:https://www.casimedicos.com/eventos/primer-nacimiento-por-fecundacion-
 in-vitro-1983-07-25/
SUMMARY:Primer nacimiento por fecundación in vitro
DESCRIPTION:Primer nacimiento por fecundación in vitro
ATTACH;FMTTYPE=image/jpeg:https://www.casimedicos.com/cp/wp-content/upload
 s/2018/07/25-7fiv1.png
CATEGORIES:Efemerides
END:VEVENT
BEGIN:VTIMEZONE
TZID:Europe/Madrid
X-LIC-LOCATION:Europe/Madrid
BEGIN:DAYLIGHT
DTSTART:19830327T030000
TZOFFSETFROM:+0100
TZOFFSETTO:+0200
TZNAME:CEST
END:DAYLIGHT
END:VTIMEZONE
END:VCALENDAR