BEGIN:VCALENDAR
VERSION:2.0
PRODID:-//wp-events-plugin.com//7.2.3.1//EN
TZID:Europe/Madrid
X-WR-TIMEZONE:Europe/Madrid
BEGIN:VEVENT
UID:1265@casimedicos.com
DTSTART;TZID=Europe/Madrid:20170411T093000
DTEND;TZID=Europe/Madrid:20170411T120000
DTSTAMP:20170312T225610Z
URL:https://www.casimedicos.com/eventos/jpa-marina-baixa/
SUMMARY:JPA MARINA BAIXA
DESCRIPTION:https://www.casimedicos.com/jornada-puertas-abiertas-futuros-re
 sidentes-h-marina-baixa-villajoyosa/
CATEGORIES:Congresos, Jornadas y Cursos,Examen MIR,Residentes
LOCATION:Hospital Marina Baixa\, Avenida Alcalde En Jaume Botella Mayor\, 7
 \,\, La Vila Joiosa\, Alicante\, 03570\, España
GEO:38.5301005;-0.19827810000003865
X-APPLE-STRUCTURED-LOCATION;VALUE=URI;X-ADDRESS=Avenida Alcalde En Jaume Bo
 tella Mayor\, 7\,\, La Vila Joiosa\, Alicante\, 03570\, España;X-APPLE-RA
 DIUS=100;X-TITLE=Hospital Marina Baixa:geo:38.5301005,-0.19827810000003865
END:VEVENT
BEGIN:VTIMEZONE
TZID:Europe/Madrid
X-LIC-LOCATION:Europe/Madrid
BEGIN:DAYLIGHT
DTSTART:20170326T030000
TZOFFSETFROM:+0100
TZOFFSETTO:+0200
TZNAME:CEST
END:DAYLIGHT
END:VTIMEZONE
END:VCALENDAR