BEGIN:VCALENDAR
VERSION:2.0
PRODID:-//wp-events-plugin.com//7.2.3.1//EN
TZID:Europe/Madrid
X-WR-TIMEZONE:Europe/Madrid
BEGIN:VEVENT
UID:1264@casimedicos.com
DTSTART;TZID=Europe/Madrid:20170321T100000
DTEND;TZID=Europe/Madrid:20170321T113000
DTSTAMP:20170312T223445Z
URL:https://www.casimedicos.com/eventos/jpa-hospital-elda/
SUMMARY:JPA Hospital Elda
DESCRIPTION:https://www.casimedicos.com/ii-jornadas-puertas-abiertas-hospit
 al-general-universitario-elda-alicante/
CATEGORIES:Congresos, Jornadas y Cursos,Examen MIR,Residentes
LOCATION:Hospital General Universitario de Elda\, Ctra. Sax- La Torreta\, E
 lda\, Alicante\, 03600\, España
GEO:38.4931898;-0.8053615000000036
X-APPLE-STRUCTURED-LOCATION;VALUE=URI;X-ADDRESS=Ctra. Sax- La Torreta\, Eld
 a\, Alicante\, 03600\, España;X-APPLE-RADIUS=100;X-TITLE=Hospital General
  Universitario de Elda:geo:38.4931898,-0.8053615000000036
END:VEVENT
BEGIN:VTIMEZONE
TZID:Europe/Madrid
X-LIC-LOCATION:Europe/Madrid
BEGIN:STANDARD
DTSTART:20161030T020000
TZOFFSETFROM:+0200
TZOFFSETTO:+0100
TZNAME:CET
END:STANDARD
END:VTIMEZONE
END:VCALENDAR