BEGIN:VCALENDAR
VERSION:2.0
PRODID:-//wp-events-plugin.com//7.2.3.1//EN
TZID:Europe/Madrid
X-WR-TIMEZONE:Europe/Madrid
BEGIN:VEVENT
UID:1260@casimedicos.com
DTSTART;TZID=Europe/Madrid:20170308T113000
DTEND;TZID=Europe/Madrid:20170308T143000
DTSTAMP:20170219T225313Z
URL:https://www.casimedicos.com/eventos/jornada-residentes-udmfyc-navarra/
SUMMARY:Jornada Residentes UDMFyC Navarra
DESCRIPTION:https://www.casimedicos.com/unidad-docente-medicina-familiar-co
 munitaria-navarra-ii-jornadas-puertas-abiertas-futuros-residentes/
CATEGORIES:Calendario,Congresos, Jornadas y Cursos,Examen MIR,Residentes
LOCATION:Centro de Salud San Jorge\, Calle Sanduzelai\, 0\, Pamplona\, 3101
 2 \, España
GEO:42.8195723;-1.6656410000000506
X-APPLE-STRUCTURED-LOCATION;VALUE=URI;X-ADDRESS=Calle Sanduzelai\, 0\, Pamp
 lona\, 31012 \, España;X-APPLE-RADIUS=100;X-TITLE=Centro de Salud San Jor
 ge:geo:42.8195723,-1.6656410000000506
END:VEVENT
BEGIN:VTIMEZONE
TZID:Europe/Madrid
X-LIC-LOCATION:Europe/Madrid
BEGIN:STANDARD
DTSTART:20161030T020000
TZOFFSETFROM:+0200
TZOFFSETTO:+0100
TZNAME:CET
END:STANDARD
END:VTIMEZONE
END:VCALENDAR