BEGIN:VCALENDAR
VERSION:2.0
PRODID:-//wp-events-plugin.com//7.2.3.1//EN
TZID:Europe/Madrid
X-WR-TIMEZONE:Europe/Madrid
BEGIN:VEVENT
UID:7@casimedicos.com
DTSTART;TZID=Europe/Madrid:20170314T110000
DTEND;TZID=Europe/Madrid:20170314T140000
DTSTAMP:20170212T225600Z
URL:https://www.casimedicos.com/eventos/jornada-residentes-h-u-reina-sofia
 /
SUMMARY:Jornada Residentes H.U.Reina Sofía.
DESCRIPTION:https://www.casimedicos.com/hospital-universitario-reina-sofia-
 cordoba-jornada-puertas-abiertas-futuros-residentes-2017/
CATEGORIES:Calendario,Congresos, Jornadas y Cursos,Examen MIR,Residentes
LOCATION:Hospital Universitario Reina Sofía\, Av. Menéndez Pidal\, Córdo
 ba \, 14004 \, España
GEO:37.86669005625078;-4.7968981687865835
X-APPLE-STRUCTURED-LOCATION;VALUE=URI;X-ADDRESS=Av. Menéndez Pidal\, Córd
 oba \, 14004 \, España;X-APPLE-RADIUS=100;X-TITLE=Hospital Universitario 
 Reina Sofía:geo:37.86669005625078,-4.7968981687865835
END:VEVENT
BEGIN:VTIMEZONE
TZID:Europe/Madrid
X-LIC-LOCATION:Europe/Madrid
BEGIN:STANDARD
DTSTART:20161030T020000
TZOFFSETFROM:+0200
TZOFFSETTO:+0100
TZNAME:CET
END:STANDARD
END:VTIMEZONE
END:VCALENDAR