BEGIN:VCALENDAR
VERSION:2.0
PRODID:-//wp-events-plugin.com//7.2.3.1//EN
TZID:Europe/Madrid
X-WR-TIMEZONE:Europe/Madrid
BEGIN:VEVENT
UID:929@casimedicos.com
DTSTART;TZID=Europe/Madrid:20170314T100000
DTEND;TZID=Europe/Madrid:20170314T140000
DTSTAMP:20170212T230735Z
URL:https://www.casimedicos.com/eventos/jornada-residentes-h-u-ramon-cajal
 /
SUMMARY:Jornada Residentes H.U.Ramón y Cajal
DESCRIPTION:Jornada Residentes H.U.Ramón y Cajal
CATEGORIES:Calendario,Congresos, Jornadas y Cursos,Examen MIR,Residentes
LOCATION:Hospital Universitario Ramón y Cajal\, Ctra. Colmenar Viejo\, km.
  9\,100\,\, Madrid\, Madrid\, 28034 \, Madrid\, España
GEO:40.48842614793888;-3.696398236523464
X-APPLE-STRUCTURED-LOCATION;VALUE=URI;X-ADDRESS=Ctra. Colmenar Viejo\, km. 
 9\,100\,\, Madrid\, Madrid\, 28034 \, Madrid\, España;X-APPLE-RADIUS=100;
 X-TITLE=Hospital Universitario Ramón y Cajal:geo:40.48842614793888,-3.696
 398236523464
END:VEVENT
BEGIN:VTIMEZONE
TZID:Europe/Madrid
X-LIC-LOCATION:Europe/Madrid
BEGIN:STANDARD
DTSTART:20161030T020000
TZOFFSETFROM:+0200
TZOFFSETTO:+0100
TZNAME:CET
END:STANDARD
END:VTIMEZONE
END:VCALENDAR