BEGIN:VCALENDAR
VERSION:2.0
PRODID:-//wp-events-plugin.com//7.2.3.1//EN
TZID:Europe/Madrid
X-WR-TIMEZONE:Europe/Madrid
BEGIN:VEVENT
UID:1259@casimedicos.com
DTSTART;TZID=Europe/Madrid:20170328T090000
DTEND;TZID=Europe/Madrid:20170328T140000
DTSTAMP:20170219T222431Z
URL:https://www.casimedicos.com/eventos/jornada-residentes-h-u-la-paz-madr
 id/
SUMMARY:Jornada Residentes H.U. La Paz. Madrid.
DESCRIPTION:https://www.casimedicos.com/hospital-la-paz-madrid-jornada-puer
 tas-abiertas-futuros-residentes-2017/
CATEGORIES:Calendario,Congresos, Jornadas y Cursos,Examen MIR,Residentes
LOCATION:Hospital La Paz. Madrid.\,  Paseo de la Castellana\, 261\, Madrid\
 , Madrid\, 28046\, Madrid\, España
GEO:40.4811633;-3.6873983000000408
X-APPLE-STRUCTURED-LOCATION;VALUE=URI;X-ADDRESS= Paseo de la Castellana\, 2
 61\, Madrid\, Madrid\, 28046\, Madrid\, España;X-APPLE-RADIUS=100;X-TITLE
 =Hospital La Paz. Madrid.:geo:40.4811633,-3.6873983000000408
END:VEVENT
BEGIN:VTIMEZONE
TZID:Europe/Madrid
X-LIC-LOCATION:Europe/Madrid
BEGIN:DAYLIGHT
DTSTART:20170326T030000
TZOFFSETFROM:+0100
TZOFFSETTO:+0200
TZNAME:CEST
END:DAYLIGHT
END:VTIMEZONE
END:VCALENDAR