BEGIN:VCALENDAR
VERSION:2.0
PRODID:-//wp-events-plugin.com//7.2.3.1//EN
TZID:Europe/Madrid
X-WR-TIMEZONE:Europe/Madrid
BEGIN:VEVENT
UID:930@casimedicos.com
DTSTART;TZID=Europe/Madrid:20170331T100000
DTEND;TZID=Europe/Madrid:20170331T140000
DTSTAMP:20170213T074317Z
URL:https://www.casimedicos.com/eventos/jornada-residentes-h-u-donostia/
SUMMARY:Jornada Residentes H.U.Donostia
DESCRIPTION:https://www.casimedicos.com/hospital-universitario-donostia-jor
 nada-puertas-abiertas-futuros-residentes-2017/
CATEGORIES:Calendario,Congresos, Jornadas y Cursos,Examen MIR,Residentes
LOCATION:Hospital Universitario Donostia\, Paseo Dr. Beguiristain s/n\, Don
 ostia\, 20014 \, España
GEO:43.2918102;-1.9734767999999576
X-APPLE-STRUCTURED-LOCATION;VALUE=URI;X-ADDRESS=Paseo Dr. Beguiristain s/n\
 , Donostia\, 20014 \, España;X-APPLE-RADIUS=100;X-TITLE=Hospital Universi
 tario Donostia:geo:43.2918102,-1.9734767999999576
END:VEVENT
BEGIN:VTIMEZONE
TZID:Europe/Madrid
X-LIC-LOCATION:Europe/Madrid
BEGIN:DAYLIGHT
DTSTART:20170326T030000
TZOFFSETFROM:+0100
TZOFFSETTO:+0200
TZNAME:CEST
END:DAYLIGHT
END:VTIMEZONE
END:VCALENDAR