BEGIN:VCALENDAR
VERSION:2.0
PRODID:-//wp-events-plugin.com//7.2.3.1//EN
TZID:Europe/Madrid
X-WR-TIMEZONE:Europe/Madrid
BEGIN:VEVENT
UID:1258@casimedicos.com
DTSTART;TZID=Europe/Madrid:20170220T160000
DTEND;TZID=Europe/Madrid:20170220T180000
DTSTAMP:20170219T202311Z
URL:https://www.casimedicos.com/eventos/jornada-empleabilidad-uam/
SUMMARY:Jornada de Empleabilidad UAM
DESCRIPTION:https://www.casimedicos.com/jornada-empleabilidad-estudiantes-m
 edicina-uam/
CATEGORIES:Congresos, Jornadas y Cursos,Estudiantes
LOCATION:Facultad de Medicina Universidad Autónoma de Madrid\, Calle del A
 rzobispo Morcillo\, 4\, Madrid\, Madrid\, 28029\, Madrid\, España
GEO:40.48091040000001;-3.690909499999975
X-APPLE-STRUCTURED-LOCATION;VALUE=URI;X-ADDRESS=Calle del Arzobispo Morcill
 o\, 4\, Madrid\, Madrid\, 28029\, Madrid\, España;X-APPLE-RADIUS=100;X-TI
 TLE=Facultad de Medicina Universidad Autónoma de Madrid:geo:40.4809104000
 0001,-3.690909499999975
END:VEVENT
BEGIN:VTIMEZONE
TZID:Europe/Madrid
X-LIC-LOCATION:Europe/Madrid
BEGIN:STANDARD
DTSTART:20161030T020000
TZOFFSETFROM:+0200
TZOFFSETTO:+0100
TZNAME:CET
END:STANDARD
END:VTIMEZONE
END:VCALENDAR