BEGIN:VCALENDAR
VERSION:2.0
PRODID:-//wp-events-plugin.com//7.2.3.1//EN
TZID:Europe/Madrid
X-WR-TIMEZONE:Europe/Madrid
BEGIN:VEVENT
UID:1267@casimedicos.com
DTSTART;TZID=Europe/Madrid:20170928T000000
DTEND;TZID=Europe/Madrid:20170929T000000
DTSTAMP:20170528T174704Z
URL:https://www.casimedicos.com/eventos/iii-congreso-radiologia-estudiante
 s-medicina/
SUMMARY:III Congreso de Radiología para Estudiantes de Medicina
DESCRIPTION:https://www.casimedicos.com/iii-congreso-radiologia-estudiantes
 -medicina/
CATEGORIES:Congresos, Jornadas y Cursos,Estudiantes
END:VEVENT
BEGIN:VTIMEZONE
TZID:Europe/Madrid
X-LIC-LOCATION:Europe/Madrid
BEGIN:DAYLIGHT
DTSTART:20170326T030000
TZOFFSETFROM:+0100
TZOFFSETTO:+0200
TZNAME:CEST
END:DAYLIGHT
END:VTIMEZONE
END:VCALENDAR