BEGIN:VCALENDAR
VERSION:2.0
PRODID:-//wp-events-plugin.com//7.2.3.1//EN
TZID:Europe/Madrid
X-WR-TIMEZONE:Europe/Madrid
BEGIN:VEVENT
UID:1575@casimedicos.com
DTSTART;TZID=Europe/Madrid;VALUE=DATE:20181003
DTEND;TZID=Europe/Madrid;VALUE=DATE:20181006
DTSTAMP:20180902T230814Z
URL:https://www.casimedicos.com/eventos/iii-congreso-nacional-sefse-areda/
SUMMARY:III Congreso Nacional SEFSE AREDA
DESCRIPTION:\nEspiritu del Congreso\n\n\nQuerido amigo\,\nTe presentamos co
 n ilusión el próximo congreso SEFSE-AREDA\, que tendrá lugar en A Coru
 ña bajo el lema\, FSE “Compromiso Humano-Innovador”.\nEn SEFSE AREDA 
 Coruña 2018 el hilo conductor será la “humanización” y la “innova
 ción”\, donde tecnología y personas van de la mano para construir un m
 undo mejor\, transmitiendo los mejores valores y conocimientos\, con el pa
 ciente como eje\, podremos formar profesionales excelentes.\nSe abre ante 
 la Formación Sanitaria Especializada un reto de futuro\, estamos en un mo
 mento clave y decisivo\, y lo afrontamos con gran ilusión y energía.\nNo
  cabe duda que las profesiones sanitarias se ven inmersas en un profundo c
 ambio en el proceso formativo\, el empuje de las nuevas tecnologías hacen
  que el momento en que vivimos se convierta en un vertiginoso y continuo a
 prendizaje\, y paralelamente\, la investigación se ve inmersa en este cam
 bio\, sin perder la esencia de la profesión sanitaria\, la humanización.
 \n​Buscamos la formación de profesionales que respondan a las necesidad
 es de los ciudadanos\, bajo los principios del profesionalismo\, mejorar l
 as realciones con otros profesionales que intervienen en la salud\, y prep
 ararlos como lideres del futuro para que sean los agentes del cambio en la
 s organizaciones sanitarias.\nNos encontramos en la era tecnológica\, en 
 la que la Inteligencia Artificial debe ir acompañada de la esencia de la 
 profesión médica\, la relación médico-paciente.\nTodo ello\, nuevas te
 cnologías\, investigación\, humanización\, serán tratados en este cong
 reso en A Coruña\, ciudad amable\, y en la que esperamos os sintáis como
  en casa.\nEstaremos encantados de recibiros\, os esperamos.\nInscripcione
 s: https://www.congresosefsecoruna.com/\n\n
ATTACH;FMTTYPE=image/jpeg:https://www.casimedicos.com/cp/wp-content/upload
 s/2018/08/bannercasimedicos.-2.jpg
CATEGORIES:Congresos, Jornadas y Cursos
LOCATION:PALEXCO\,  Muelle de Transatlánticos\, s/n\, 15003 A Coruña\, La
  Coruña\, LA CORUÑA\, LA CORUÑA\, 15003\, Coruña\, España
X-APPLE-STRUCTURED-LOCATION;VALUE=URI;X-ADDRESS= Muelle de Transatlánticos
 \, s/n\, 15003 A Coruña\, La Coruña\, LA CORUÑA\, LA CORUÑA\, 15003\, 
 Coruña\, España;X-APPLE-RADIUS=100;X-TITLE=PALEXCO:geo:0,0
END:VEVENT
BEGIN:VTIMEZONE
TZID:Europe/Madrid
X-LIC-LOCATION:Europe/Madrid
BEGIN:DAYLIGHT
DTSTART:20180325T030000
TZOFFSETFROM:+0100
TZOFFSETTO:+0200
TZNAME:CEST
END:DAYLIGHT
END:VTIMEZONE
END:VCALENDAR