BEGIN:VCALENDAR
VERSION:2.0
PRODID:-//wp-events-plugin.com//7.2.3.1//EN
TZID:Europe/Madrid
X-WR-TIMEZONE:Europe/Madrid
BEGIN:VEVENT
UID:1266@casimedicos.com
DTSTART;TZID=Europe/Madrid:20170314T160000
DTEND;TZID=Europe/Madrid:20170314T200000
DTSTAMP:20170314T093656Z
URL:https://www.casimedicos.com/eventos/i-curso-residentes-i-cardiaca-madr
 id/
SUMMARY:I CURSO RESIDENTES I.CARDÍACA MADRID .
DESCRIPTION:Con el objetivo de ampliar conocimientos en el área de Insufic
 iencia Cardíaca para médicos en Formación MIR.\nI CURSO RESIDENTES I.CA
 RDÍACA MADRID .\nDicho curso se celebrará en Hospital La Princesa de Mad
 rid\, el 14 Marzo 2017.\n \nLa entrada al curso es Inscripción Gratuita\
 , con acceso directo por orden de llegada.\nAforo limitado a 260 Asistente
 s.\n
ATTACH;FMTTYPE=image/jpeg:https://www.casimedicos.com/cp/wp-content/upload
 s/2017/03/icardiaca.jpg
CATEGORIES:Congresos, Jornadas y Cursos,Examen MIR,Residentes
END:VEVENT
BEGIN:VTIMEZONE
TZID:Europe/Madrid
X-LIC-LOCATION:Europe/Madrid
BEGIN:STANDARD
DTSTART:20161030T020000
TZOFFSETFROM:+0200
TZOFFSETTO:+0100
TZNAME:CET
END:STANDARD
END:VTIMEZONE
END:VCALENDAR