BEGIN:VCALENDAR
VERSION:2.0
PRODID:-//wp-events-plugin.com//7.2.3.1//EN
TZID:Europe/Madrid
X-WR-TIMEZONE:Europe/Madrid
BEGIN:VEVENT
UID:381@casimedicos.com
DTSTART;TZID=Europe/Madrid;VALUE=DATE:20401201
DTEND;TZID=Europe/Madrid;VALUE=DATE:20401202
DTSTAMP:20170211T205941Z
URL:https://www.casimedicos.com/eventos/dia-mundial-sida-2040-12-01/
SUMMARY:Día Mundial contra el Sida
DESCRIPTION:https://www.casimedicos.com/1-diciembre-dia-mundial-sida/
CATEGORIES:Efemerides
END:VEVENT
BEGIN:VTIMEZONE
TZID:Europe/Madrid
X-LIC-LOCATION:Europe/Madrid
BEGIN:STANDARD
DTSTART:20391202T000000
TZOFFSETFROM:+0100
TZOFFSETTO:+0100
TZNAME:CET
END:STANDARD
END:VTIMEZONE
END:VCALENDAR