BEGIN:VCALENDAR
VERSION:2.0
PRODID:-//wp-events-plugin.com//7.2.3.1//EN
TZID:Europe/Madrid
X-WR-TIMEZONE:Europe/Madrid
BEGIN:VEVENT
UID:1@casimedicos.com
DTSTART;TZID=Europe/Madrid;VALUE=DATE:20170531
DTEND;TZID=Europe/Madrid;VALUE=DATE:20170601
DTSTAMP:20170211T200802Z
URL:https://www.casimedicos.com/eventos/dia-mundial-la-esclerosis-multiple
 -2017/
SUMMARY:Día Mundial de la Esclerosis Múltiple 2017
DESCRIPTION:https://www.casimedicos.com/tv/en/esclerosis-multiple/
CATEGORIES:Efemerides
END:VEVENT
BEGIN:VTIMEZONE
TZID:Europe/Madrid
X-LIC-LOCATION:Europe/Madrid
BEGIN:DAYLIGHT
DTSTART:20170326T030000
TZOFFSETFROM:+0100
TZOFFSETTO:+0200
TZNAME:CEST
END:DAYLIGHT
END:VTIMEZONE
END:VCALENDAR