BEGIN:VCALENDAR
VERSION:2.0
PRODID:-//wp-events-plugin.com//7.2.3.1//EN
TZID:Europe/Madrid
X-WR-TIMEZONE:Europe/Madrid
BEGIN:VEVENT
UID:1563@casimedicos.com
DTSTART;TZID=Europe/Madrid:21080728T000000
DTEND;TZID=Europe/Madrid:21080728T000000
DTSTAMP:20180728T193601Z
URL:https://www.casimedicos.com/eventos/dia-mundial-contra-la-hepatitis-21
 08-07-28/
SUMMARY:Día Mundial contra la Hepatitis
DESCRIPTION:Día Mundial contra la Hepatitis
CATEGORIES:Efemerides
END:VEVENT
BEGIN:VTIMEZONE
TZID:Europe/Madrid
X-LIC-LOCATION:Europe/Madrid
BEGIN:STANDARD
DTSTART:21070729T000000
TZOFFSETFROM:+0100
TZOFFSETTO:+0100
TZNAME:CET
END:STANDARD
END:VTIMEZONE
END:VCALENDAR