BEGIN:VCALENDAR
VERSION:2.0
PRODID:-//wp-events-plugin.com//7.2.3.1//EN
TZID:Europe/Madrid
X-WR-TIMEZONE:Europe/Madrid
BEGIN:VEVENT
UID:608@casimedicos.com
DTSTART;TZID=Europe/Madrid:20221024T000000
DTEND;TZID=Europe/Madrid:20221024T000000
DTSTAMP:20170211T211011Z
URL:https://www.casimedicos.com/eventos/dia-la-biblioteca-2022-10-24/
SUMMARY:Día de la Biblioteca
DESCRIPTION:https://www.casimedicos.com/24-octubre-dia-la-biblioteca/
CATEGORIES:Efemerides
END:VEVENT
BEGIN:VTIMEZONE
TZID:Europe/Madrid
X-LIC-LOCATION:Europe/Madrid
BEGIN:DAYLIGHT
DTSTART:20220327T030000
TZOFFSETFROM:+0100
TZOFFSETTO:+0200
TZNAME:CEST
END:DAYLIGHT
END:VTIMEZONE
END:VCALENDAR