BEGIN:VCALENDAR
VERSION:2.0
PRODID:-//wp-events-plugin.com//7.2.3.1//EN
TZID:Europe/Madrid
X-WR-TIMEZONE:Europe/Madrid
BEGIN:VEVENT
UID:944@casimedicos.com
DTSTART;TZID=Europe/Madrid:20290214T000000
DTEND;TZID=Europe/Madrid:20290214T000000
DTSTAMP:20170214T230213Z
URL:https://www.casimedicos.com/eventos/dia-internacional-las-cardiopatias
 -congenitas-2029-02-14/
SUMMARY:Día Internacional de las Cardiopatías Congénitas
DESCRIPTION:https://www.casimedicos.com/14-febrero-dia-internacional-las-ca
 rdiopatias-congenitas/
CATEGORIES:Efemerides
END:VEVENT
BEGIN:VTIMEZONE
TZID:Europe/Madrid
X-LIC-LOCATION:Europe/Madrid
BEGIN:STANDARD
DTSTART:20281029T020000
TZOFFSETFROM:+0200
TZOFFSETTO:+0100
TZNAME:CET
END:STANDARD
END:VTIMEZONE
END:VCALENDAR