BEGIN:VCALENDAR
VERSION:2.0
PRODID:-//wp-events-plugin.com//7.2.3.1//EN
TZID:Europe/Madrid
X-WR-TIMEZONE:Europe/Madrid
BEGIN:VEVENT
UID:750@casimedicos.com
DTSTART;TZID=Europe/Madrid;VALUE=DATE:20821019
DTEND;TZID=Europe/Madrid;VALUE=DATE:20821020
DTSTAMP:20170211T211131Z
URL:https://www.casimedicos.com/eventos/dia-internacional-la-lucha-cancer-
 mama-2082-10-19/
SUMMARY:Día internacional de la lucha contra el cáncer de mama
DESCRIPTION:https://www.casimedicos.com/19-octubre-dia-internacional-la-luc
 ha-cancer-mama/
CATEGORIES:Efemerides
END:VEVENT
BEGIN:VTIMEZONE
TZID:Europe/Madrid
X-LIC-LOCATION:Europe/Madrid
BEGIN:STANDARD
DTSTART:20811019T000000
TZOFFSETFROM:+0100
TZOFFSETTO:+0100
TZNAME:CET
END:STANDARD
END:VTIMEZONE
END:VCALENDAR