BEGIN:VCALENDAR
VERSION:2.0
PRODID:-//wp-events-plugin.com//7.2.3.1//EN
TZID:Europe/Madrid
X-WR-TIMEZONE:Europe/Madrid
BEGIN:VEVENT
UID:1189@casimedicos.com
DTSTART;TZID=Europe/Madrid:20290218T000000
DTEND;TZID=Europe/Madrid:20290218T000000
DTSTAMP:20170219T114840Z
URL:https://www.casimedicos.com/eventos/dia-internacional-del-sindrome-asp
 erger-2029-02-18/
SUMMARY:Día Internacional del Síndrome de Asperger
DESCRIPTION:https://www.casimedicos.com/18-febrero-dia-internacional-del-si
 ndrome-asperger/
CATEGORIES:Efemerides
END:VEVENT
BEGIN:VTIMEZONE
TZID:Europe/Madrid
X-LIC-LOCATION:Europe/Madrid
BEGIN:STANDARD
DTSTART:20281029T020000
TZOFFSETFROM:+0200
TZOFFSETTO:+0100
TZNAME:CET
END:STANDARD
END:VTIMEZONE
END:VCALENDAR