BEGIN:VCALENDAR
VERSION:2.0
PRODID:-//wp-events-plugin.com//7.2.3.1//EN
TZID:Europe/Madrid
X-WR-TIMEZONE:Europe/Madrid
BEGIN:VEVENT
UID:1574@casimedicos.com
DTSTART;TZID=Europe/Madrid;VALUE=DATE:20181025
DTEND;TZID=Europe/Madrid;VALUE=DATE:20181027
DTSTAMP:20180815T212400Z
URL:https://www.casimedicos.com/eventos/conferencia-mundial-sobre-atencion
 -primaria-de-salud/
SUMMARY:Conferencia Mundial sobre Atención Primaria de Salud
DESCRIPTION:Este año\, el mundo se reunirá en la Conferencia Mundial sobr
 e Atención Primaria de Salud a fin de comprometerse de nuevo para reforza
 r la atención primaria de salud y alcanzar la cobertura sanitaria univers
 al y los Objetivos de Desarrollo Sostenible. La Conferencia\, que organiza
 rán conjuntamente el Gobierno de Kazajstán\, la Organización Mundial de
  la Salud y UNICEF\, se celebrará los días 25 y 26 de octubre con ocasi
 ón del 40.º aniversario de la Declaración de Alma-Ata.\n\nLa conmemorac
 ión de este hito fundamental para la salud mundial será una oportunidad 
 para reafirmar los principios de la declaración inicial y subrayar la imp
 ortancia que tiene la atención primaria para alcanzar nuestros objetivos 
 colectivos para el siglo XXI.\n\nObtenga más información en el sitio web
  oficial
ATTACH;FMTTYPE=image/jpeg:https://www.casimedicos.com/cp/wp-content/upload
 s/2018/08/omsprimaria.jpg
CATEGORIES:Congresos, Jornadas y Cursos
END:VEVENT
BEGIN:VTIMEZONE
TZID:Europe/Madrid
X-LIC-LOCATION:Europe/Madrid
BEGIN:DAYLIGHT
DTSTART:20180325T030000
TZOFFSETFROM:+0100
TZOFFSETTO:+0200
TZNAME:CEST
END:DAYLIGHT
END:VTIMEZONE
END:VCALENDAR