BEGIN:VCALENDAR
VERSION:2.0
PRODID:-//wp-events-plugin.com//7.2.3.1//EN
TZID:Europe/Madrid
X-WR-TIMEZONE:Europe/Madrid
BEGIN:VEVENT
UID:8@casimedicos.com
DTSTART;TZID=Europe/Madrid;VALUE=DATE:20170116
DTEND;TZID=Europe/Madrid;VALUE=DATE:20170317
DTSTAMP:20170212T225450Z
URL:https://www.casimedicos.com/eventos/becas-fulbright-ampliacion-estudio
 s-ee-uu/
SUMMARY:Becas Fulbright de Ampliación de Estudios en EE.UU
DESCRIPTION:https://www.casimedicos.com/becas-fulbright-ampliacion-estudios
 -ee-uu-titulados-superiores-2018-2019/
CATEGORIES:Becas, ayudas y premios,Calendario,Estudiantes
END:VEVENT
BEGIN:VTIMEZONE
TZID:Europe/Madrid
X-LIC-LOCATION:Europe/Madrid
BEGIN:STANDARD
DTSTART:20161030T020000
TZOFFSETFROM:+0200
TZOFFSETTO:+0100
TZNAME:CET
END:STANDARD
END:VTIMEZONE
END:VCALENDAR