BEGIN:VCALENDAR
VERSION:2.0
PRODID:-//wp-events-plugin.com//7.2.3.1//EN
TZID:Europe/Madrid
X-WR-TIMEZONE:Europe/Madrid
BEGIN:VEVENT
UID:1263@casimedicos.com
DTSTART;TZID=Europe/Madrid:20170420T000000
DTEND;TZID=Europe/Madrid:20170420T000000
DTSTAMP:20170312T192200Z
URL:https://www.casimedicos.com/eventos/becas-formacion-ciudad-real/
SUMMARY:BECAS DE FORMACIÓN Ciudad Real
DESCRIPTION:https://www.casimedicos.com/iii-edicion-becas-formacion-estanci
 as-estivales-alumnos-medicina-ciudad-real/
CATEGORIES:Becas, ayudas y premios,Estudiantes
END:VEVENT
BEGIN:VTIMEZONE
TZID:Europe/Madrid
X-LIC-LOCATION:Europe/Madrid
BEGIN:DAYLIGHT
DTSTART:20170326T030000
TZOFFSETFROM:+0100
TZOFFSETTO:+0200
TZNAME:CEST
END:DAYLIGHT
END:VTIMEZONE
END:VCALENDAR