BEGIN:VCALENDAR
VERSION:2.0
PRODID:-//wp-events-plugin.com//7.2.3.1//EN
TZID:Europe/Madrid
X-WR-TIMEZONE:Europe/Madrid
BEGIN:VEVENT
UID:9@casimedicos.com
DTSTART;TZID=Europe/Madrid;VALUE=DATE:20170116
DTEND;TZID=Europe/Madrid;VALUE=DATE:20170221
DTSTAMP:20170212T225457Z
URL:https://www.casimedicos.com/eventos/ayudas-al-estudio-usal-20162017/
SUMMARY:AYUDAS AL ESTUDIO USAL 2016/2017
DESCRIPTION:https://www.casimedicos.com/abierta-la-convocatoria-de-ayudas-a
 l-estudio-usal-20162017/
CATEGORIES:Becas, ayudas y premios,Calendario,Estudiantes
END:VEVENT
BEGIN:VTIMEZONE
TZID:Europe/Madrid
X-LIC-LOCATION:Europe/Madrid
BEGIN:STANDARD
DTSTART:20161030T020000
TZOFFSETFROM:+0200
TZOFFSETTO:+0100
TZNAME:CET
END:STANDARD
END:VTIMEZONE
END:VCALENDAR