BEGIN:VCALENDAR
VERSION:2.0
PRODID:-//wp-events-plugin.com//7.2.3.1//EN
TZID:Europe/Madrid
X-WR-TIMEZONE:Europe/Madrid
BEGIN:VEVENT
UID:3@casimedicos.com
DTSTART;TZID=Europe/Madrid;VALUE=DATE:20170410
DTEND;TZID=Europe/Madrid;VALUE=DATE:20170411
DTSTAMP:20170212T225615Z
URL:https://www.casimedicos.com/eventos/actos-asignacion-plazas/
SUMMARY:Actos de Asignación de Plazas
DESCRIPTION:https://www.casimedicos.com/ver/graduados/examen-mir/
CATEGORIES:Calendario,Examen MIR,Residentes
END:VEVENT
BEGIN:VTIMEZONE
TZID:Europe/Madrid
X-LIC-LOCATION:Europe/Madrid
BEGIN:DAYLIGHT
DTSTART:20170326T030000
TZOFFSETFROM:+0100
TZOFFSETTO:+0200
TZNAME:CEST
END:DAYLIGHT
END:VTIMEZONE
END:VCALENDAR