BEGIN:VCALENDAR
VERSION:2.0
PRODID:-//wp-events-plugin.com//7.2.3.1//EN
TZID:Europe/Madrid
X-WR-TIMEZONE:Europe/Madrid
BEGIN:VEVENT
UID:1262@casimedicos.com
DTSTART;TZID=Europe/Madrid:20170313T000000
DTEND;TZID=Europe/Madrid:20170315T000000
DTSTAMP:20170227T221208Z
URL:https://www.casimedicos.com/eventos/2a-edicion-del-congreso-cimq-congr
 eso-internacional-medico-quirurgico/
SUMMARY:2ª edición del Congreso CIMQ - Congreso Internacional Medico-Quir
 urgico
DESCRIPTION:Los dias 13\, 14 y 15 de Marzo de 2017 en la facultad de Medici
 na de Santiago de Compostela la asociación USCience va a hacer la 2ª edi
 ción del Congreso CIMQ - Congreso Internacional Medico-Quirurgico\n\nhttp
 ://cimq17.org/\n\n&nbsp\;
CATEGORIES:Congresos, Jornadas y Cursos,Estudiantes
END:VEVENT
BEGIN:VTIMEZONE
TZID:Europe/Madrid
X-LIC-LOCATION:Europe/Madrid
BEGIN:STANDARD
DTSTART:20161030T020000
TZOFFSETFROM:+0200
TZOFFSETTO:+0100
TZNAME:CET
END:STANDARD
END:VTIMEZONE
END:VCALENDAR