BEGIN:VCALENDAR
VERSION:2.0
PRODID:-//wp-events-plugin.com//7.2.3.1//EN
TZID:Europe/Madrid
X-WR-TIMEZONE:Europe/Madrid
BEGIN:VEVENT
UID:231@casimedicos.com
DTSTART;TZID=Europe/Madrid;VALUE=DATE:20531217
DTEND;TZID=Europe/Madrid;VALUE=DATE:20531218
DTSTAMP:20170211T205553Z
URL:https://www.casimedicos.com/eventos/2016-fallece-henry-heimlich-2053-1
 2-17/
SUMMARY:2016: Fallece Henry Heimlich
DESCRIPTION:El 17-12-2016 Fallece Henry Heimlich. Medico estadounidense pad
 re de la Maniobra de Heimlich para casos de atragantamiento.\n\n¿la conoc
 es?\n\n 	Maniobra de Heimlich Lactante\n 	Maniobra de Heimlich Adultos y N
 iños\n
CATEGORIES:Efemerides
END:VEVENT
BEGIN:VTIMEZONE
TZID:Europe/Madrid
X-LIC-LOCATION:Europe/Madrid
BEGIN:STANDARD
DTSTART:20521217T000000
TZOFFSETFROM:+0100
TZOFFSETTO:+0100
TZNAME:CET
END:STANDARD
END:VTIMEZONE
END:VCALENDAR