BEGIN:VCALENDAR
VERSION:2.0
PRODID:-//wp-events-plugin.com//7.2.3.1//EN
TZID:Europe/Madrid
X-WR-TIMEZONE:Europe/Madrid
BEGIN:VEVENT
UID:485@casimedicos.com
DTSTART;TZID=Europe/Madrid;VALUE=DATE:20631130
DTEND;TZID=Europe/Madrid;VALUE=DATE:20631201
DTSTAMP:20170211T210615Z
URL:https://www.casimedicos.com/eventos/1803-parte-la-expedicion-balmis-20
 63-11-30/
SUMMARY:1803: Parte La Expedición Balmis
DESCRIPTION:https://www.casimedicos.com/conoce-la-expedicion-balmis-la-vacu
 na-preventiva-la-viruela/
CATEGORIES:Efemerides
END:VEVENT
BEGIN:VTIMEZONE
TZID:Europe/Madrid
X-LIC-LOCATION:Europe/Madrid
BEGIN:STANDARD
DTSTART:20621130T000000
TZOFFSETFROM:+0100
TZOFFSETTO:+0100
TZNAME:CET
END:STANDARD
END:VTIMEZONE
END:VCALENDAR